BEGIN:VCALENDAR
VERSION:2.0
PRODID:-//EventsCase//EventsCase//EN
BEGIN:VEVENT
TZID:UTC
TZ:+00
UID:69e7382135ba6
DTSTAMP:20260421T084105Z
SUMMARY:Fresh Tech + Event Marketing Tactics + Live Streaming
DESCRIPTION:https://eventscase.com/agenda/event/31534
LOCATION:Huckletree Shoreditch\, Finsbury Square\, London EC2A\, UK
DTSTART:20161011T170000Z
DTEND:20161011T200000Z
X-ALT-DESC;FMTTYPE=text/html;ENCODING=QUOTED-PRINTABLE:https://eventscase.c
 om/agenda/event/31534
END:VEVENT
END:VCALENDAR